BEGIN:VCALENDAR
PRODID:-//eluceo/ical//2.0/EN
VERSION:2.0
CALSCALE:GREGORIAN
BEGIN:VEVENT
UID:4b7e9bf1fd439b7ffeed9c9aefa8058a
DTSTAMP:20260423T091102Z
SUMMARY:Réunion statutaire - Visite du Gouverneur
DESCRIPTION:Sprekers: Étienne Bailly\, Gouverneur 2022-23 District 2150 
URL:https://louvain-la-neuve.rotary2150.org/nl/agenda/show/53019
DTSTART;TZID=Europe/Zurich:20230308T193000
DTEND;TZID=Europe/Zurich:20230308T220000
LOCATION:Hôtel ibis Styles Louvain-la-Neuve\, Boulevard de Lauzelle\, 61\,
  1348 Louvain-la-Neuve\, Belgique
CATEGORIES:Rotary
END:VEVENT
BEGIN:VTIMEZONE
TZID:Europe/Zurich
BEGIN:STANDARD
DTSTART:20230308T193000
TZNAME:CET
TZOFFSETTO:+0100
TZOFFSETFROM:+0100
END:STANDARD
END:VTIMEZONE
END:VCALENDAR
